BEGIN:VCALENDAR
VERSION:2.0
PRODID:-//strandbad-iseltwald - ECPv6.15.15//NONSGML v1.0//EN
CALSCALE:GREGORIAN
METHOD:PUBLISH
X-ORIGINAL-URL:https://www.strandbad-iseltwald.ch/en/
X-WR-CALDESC:Events for strandbad-iseltwald
REFRESH-INTERVAL;VALUE=DURATION:PT1H
X-Robots-Tag:noindex
X-PUBLISHED-TTL:PT1H
BEGIN:VTIMEZONE
TZID:Europe/Helsinki
BEGIN:DAYLIGHT
TZOFFSETFROM:+0200
TZOFFSETTO:+0300
TZNAME:EEST
DTSTART:20220327T010000
END:DAYLIGHT
BEGIN:STANDARD
TZOFFSETFROM:+0300
TZOFFSETTO:+0200
TZNAME:EET
DTSTART:20221030T010000
END:STANDARD
BEGIN:DAYLIGHT
TZOFFSETFROM:+0200
TZOFFSETTO:+0300
TZNAME:EEST
DTSTART:20230326T010000
END:DAYLIGHT
BEGIN:STANDARD
TZOFFSETFROM:+0300
TZOFFSETTO:+0200
TZNAME:EET
DTSTART:20231029T010000
END:STANDARD
BEGIN:DAYLIGHT
TZOFFSETFROM:+0200
TZOFFSETTO:+0300
TZNAME:EEST
DTSTART:20240331T010000
END:DAYLIGHT
BEGIN:STANDARD
TZOFFSETFROM:+0300
TZOFFSETTO:+0200
TZNAME:EET
DTSTART:20241027T010000
END:STANDARD
BEGIN:DAYLIGHT
TZOFFSETFROM:+0200
TZOFFSETTO:+0300
TZNAME:EEST
DTSTART:20250330T010000
END:DAYLIGHT
BEGIN:STANDARD
TZOFFSETFROM:+0300
TZOFFSETTO:+0200
TZNAME:EET
DTSTART:20251026T010000
END:STANDARD
BEGIN:DAYLIGHT
TZOFFSETFROM:+0200
TZOFFSETTO:+0300
TZNAME:EEST
DTSTART:20260329T010000
END:DAYLIGHT
BEGIN:STANDARD
TZOFFSETFROM:+0300
TZOFFSETTO:+0200
TZNAME:EET
DTSTART:20261025T010000
END:STANDARD
END:VTIMEZONE
BEGIN:VTIMEZONE
TZID:Europe/Zurich
BEGIN:DAYLIGHT
TZOFFSETFROM:+0100
TZOFFSETTO:+0200
TZNAME:CEST
DTSTART:20220327T010000
END:DAYLIGHT
BEGIN:STANDARD
TZOFFSETFROM:+0200
TZOFFSETTO:+0100
TZNAME:CET
DTSTART:20221030T010000
END:STANDARD
BEGIN:DAYLIGHT
TZOFFSETFROM:+0100
TZOFFSETTO:+0200
TZNAME:CEST
DTSTART:20230326T010000
END:DAYLIGHT
BEGIN:STANDARD
TZOFFSETFROM:+0200
TZOFFSETTO:+0100
TZNAME:CET
DTSTART:20231029T010000
END:STANDARD
BEGIN:DAYLIGHT
TZOFFSETFROM:+0100
TZOFFSETTO:+0200
TZNAME:CEST
DTSTART:20240331T010000
END:DAYLIGHT
BEGIN:STANDARD
TZOFFSETFROM:+0200
TZOFFSETTO:+0100
TZNAME:CET
DTSTART:20241027T010000
END:STANDARD
END:VTIMEZONE
BEGIN:VEVENT
DTSTART;TZID=Europe/Helsinki:20250927T120000
DTEND;TZID=Europe/Helsinki:20250927T233000
DTSTAMP:20260422T155204
CREATED:20250324T103545Z
LAST-MODIFIED:20250324T103545Z
UID:26020-1758974400-1759015800@www.strandbad-iseltwald.ch
SUMMARY:Season End Party & Live Concert Moop
DESCRIPTION:SEASON END PARTY\nWe say goodbye to summer with lots of good humor\, shared memories\, good vibes and delicious drinks. Plus a live concert by the band Moop with rock and punk cover songs.\nCelebrate the last Strämi day of 2025 with us.  \nexact program follows
URL:https://www.strandbad-iseltwald.ch/en/event/season-end-party-live-concert-moop/
CATEGORIES:Concert
ATTACH;FMTTYPE=image/jpeg:https://www.strandbad-iseltwald.ch/wp-content/uploads/2025/03/Season-End-8.jpeg
END:VEVENT
BEGIN:VEVENT
DTSTART;TZID=Europe/Helsinki:20250913T160000
DTEND;TZID=Europe/Helsinki:20250913T183000
DTSTAMP:20260422T155204
CREATED:20250324T102842Z
LAST-MODIFIED:20250912T202448Z
UID:26019-1757779200-1757788200@www.strandbad-iseltwald.ch
SUMMARY:Live concert Nepthun- NEW AT 4.00 PM
DESCRIPTION:Live concert – Nepthun\nDialect rock/pop from the Thun region with guitar\, bass and drums. Matching dialect lyrics\, witty\, biting and originally performed and always with a twinkle in their eyes\, because the seriousness of life is a rare guest at NEPTHUN.
URL:https://www.strandbad-iseltwald.ch/en/event/live-concert-nepthun/
CATEGORIES:Concert
ATTACH;FMTTYPE=image/png:https://www.strandbad-iseltwald.ch/wp-content/uploads/2025/03/Nepthun-13-September-2025-2.png
END:VEVENT
BEGIN:VEVENT
DTSTART;TZID=Europe/Helsinki:20250830T190000
DTEND;TZID=Europe/Helsinki:20250830T213000
DTSTAMP:20260422T155204
CREATED:20250324T101856Z
LAST-MODIFIED:20250829T092447Z
UID:26017-1756580400-1756589400@www.strandbad-iseltwald.ch
SUMMARY:CANCELLED! - Live concert Pluquarius
DESCRIPTION:Live concert – Pluquarius\nEverything needs its right time – this is the best way to describe the founding myth of Pluquarius. \nPizza\, Jöggi\, Simel\, Marcel\, Roli and Hendrik – that’s Pluquarius. A band from the Bernese Oberland that combines spherical rock with pop chords to create their own futuristic compositions.
URL:https://www.strandbad-iseltwald.ch/en/event/live-concert-pluquarius/
CATEGORIES:Concert
ATTACH;FMTTYPE=image/png:https://www.strandbad-iseltwald.ch/wp-content/uploads/2025/03/Pluquarius-30-August-25-2-ABGESAGT-scaled.png
END:VEVENT
BEGIN:VEVENT
DTSTART;TZID=Europe/Helsinki:20250807T190000
DTEND;TZID=Europe/Helsinki:20250807T213000
DTSTAMP:20260422T155204
CREATED:20250505T173357Z
LAST-MODIFIED:20250505T173357Z
UID:26016-1754593200-1754602200@www.strandbad-iseltwald.ch
SUMMARY:Live concert The Showband
DESCRIPTION:With a mixture of funk\, soul\, swing\, chanson and various\ninternational music genres\, they bring momentum into everyday life.\nTheir music not only provides a feast for the ears\, but also movement!
URL:https://www.strandbad-iseltwald.ch/en/event/live-concert-the-showband/
CATEGORIES:Concert
ATTACH;FMTTYPE=image/png:https://www.strandbad-iseltwald.ch/wp-content/uploads/2025/05/The-Showband-A5-1.png
END:VEVENT
BEGIN:VEVENT
DTSTART;TZID=Europe/Helsinki:20250801T170000
DTEND;TZID=Europe/Helsinki:20250801T230000
DTSTAMP:20260422T155204
CREATED:20250324T101202Z
LAST-MODIFIED:20250709T143352Z
UID:26018-1754067600-1754089200@www.strandbad-iseltwald.ch
SUMMARY:August 1 Chinoise Buffet
DESCRIPTION:Reservation required!
URL:https://www.strandbad-iseltwald.ch/en/event/august-1-chinoise-buffet/
ATTACH;FMTTYPE=image/png:https://www.strandbad-iseltwald.ch/wp-content/uploads/2025/03/1.-August-2024-A4-2.png
END:VEVENT
BEGIN:VEVENT
DTSTART;TZID=Europe/Helsinki:20250724T190000
DTEND;TZID=Europe/Helsinki:20250724T213000
DTSTAMP:20260422T155204
CREATED:20250324T100918Z
LAST-MODIFIED:20250723T163812Z
UID:26013-1753383600-1753392600@www.strandbad-iseltwald.ch
SUMMARY:CANCELLED! - Live concert Balmer Folk
DESCRIPTION:Live concert – Balmer Folk\nWith the BALMER FOLK project\, Aschy Balmer from the Bernese Oberland is performing under his own name for the first time. In his luggage is a cross-section of his favorite cover songs from 30 years of stage experience.  \n\n\nSongs from the 50s to today played in typical folk style\, with guitar\, voice\, blues harp and percussion \n\n\nHonest craftsmanship\, without great technical effort\, amplified or completely acoustic. Aschy likes to share the stage with one or more accompanying musicians.
URL:https://www.strandbad-iseltwald.ch/en/event/live-concert-balmer-folk/
CATEGORIES:Concert
ATTACH;FMTTYPE=image/png:https://www.strandbad-iseltwald.ch/wp-content/uploads/2025/03/Balmer-Folk-24-Juli-2025-6-Instagram-abgesagt.png
END:VEVENT
BEGIN:VEVENT
DTSTART;TZID=Europe/Helsinki:20250620T190000
DTEND;TZID=Europe/Helsinki:20250620T213000
DTSTAMP:20260422T155204
CREATED:20250324T095808Z
LAST-MODIFIED:20250324T095808Z
UID:26010-1750446000-1750455000@www.strandbad-iseltwald.ch
SUMMARY:Live concert band Husgmacht
DESCRIPTION:Live concert – Husgmacht\n“Husgmacht” – that’s Jöggi\, Dänel\, Pizza\, Simel and Mike.\nThe 5 guys from Bödeli are longtime\, passionate musicians with dialect songs about stories from life to sing along\, dance and listen to.\nRocky\, pop\, approachable and homemade. \nCome along and celebrate the music with us. We are looking forward to it!\nYour lido Iseltwald – Team
URL:https://www.strandbad-iseltwald.ch/en/event/live-concert-band-husgmacht/
CATEGORIES:Concert
ATTACH;FMTTYPE=image/jpeg:https://www.strandbad-iseltwald.ch/wp-content/uploads/2025/03/Husgmacht-1-Flyer.jpeg
END:VEVENT
BEGIN:VEVENT
DTSTART;TZID=Europe/Helsinki:20250531T093000
DTEND;TZID=Europe/Helsinki:20250531T190000
DTSTAMP:20260422T155204
CREATED:20250324T105324Z
LAST-MODIFIED:20250324T105324Z
UID:26015-1748683800-1748718000@www.strandbad-iseltwald.ch
SUMMARY:Beer hike Iseltwald
DESCRIPTION:Iseltwald beer hike – Rotmoos beer stand at the lido\n  \nThe hike of a good 5 km leads through the beautiful Iseltwald.\nThe start and finish are on the village square right next to the bus stop. You can also get your beer pass there.\nWith this you can taste 3 liters of beer at 5 locations along the way in your own beer mug.\nYou can buy food and mineral drinks and wine at each location.\nChildren and non-beer drinkers are free.\nThere is an extra bus from Interlaken Ost\, the normal bus route and the boat almost to the start area.\nAt the finish there is a tent to stay\, eat and drink.\nFrom mid-Nami there will be a live concert. \nParking available at the mill.
URL:https://www.strandbad-iseltwald.ch/en/event/beer-hike-iseltwald-4/
ATTACH;FMTTYPE=image/webp:https://www.strandbad-iseltwald.ch/wp-content/uploads/2025/03/Bierwanderung-e1742813529173.webp
END:VEVENT
BEGIN:VEVENT
DTSTART;TZID=Europe/Helsinki:20250510T120000
DTEND;TZID=Europe/Helsinki:20250510T220000
DTSTAMP:20260422T155204
CREATED:20250324T090744Z
LAST-MODIFIED:20250324T090744Z
UID:26014-1746878400-1746914400@www.strandbad-iseltwald.ch
SUMMARY:Season start 2025 with Total Minimal
DESCRIPTION:Start of the season at Iseltwald lido – with a live concert by Total Minimal!\nSummer is calling and we are starting the 2025 summer season. \nOn May 10\, 2025\, we will officially open the swimming season and celebrate with a live concert by the band Total Minimal. The dialect cover band will provide the best atmosphere from 4.00 pm.  \nWe look forward to your visit!\nYour Iseltwald lido team \n  \n 
URL:https://www.strandbad-iseltwald.ch/en/event/season-start-2025-with-total-minimal/
CATEGORIES:Concert
ATTACH;FMTTYPE=image/png:https://www.strandbad-iseltwald.ch/wp-content/uploads/2025/03/Saison-Start-Flyer.png
END:VEVENT
BEGIN:VEVENT
DTSTART;TZID=Europe/Helsinki:20240928T120000
DTEND;TZID=Europe/Helsinki:20240928T220000
DTSTAMP:20260422T155204
CREATED:20240403T084534Z
LAST-MODIFIED:20240910T093102Z
UID:22654-1727524800-1727560800@www.strandbad-iseltwald.ch
SUMMARY:Season End Party
DESCRIPTION:
URL:https://www.strandbad-iseltwald.ch/en/event/season-end-party-3/
ATTACH;FMTTYPE=image/jpeg:https://www.strandbad-iseltwald.ch/wp-content/uploads/2021/02/cropped-logo-blau.jpg
END:VEVENT
BEGIN:VEVENT
DTSTART;TZID=Europe/Helsinki:20240913T190000
DTEND;TZID=Europe/Helsinki:20240913T213000
DTSTAMP:20260422T155204
CREATED:20240420T141305Z
LAST-MODIFIED:20240910T084914Z
UID:22716-1726254000-1726263000@www.strandbad-iseltwald.ch
SUMMARY:CANCELLED! Concert Balmer Folk
DESCRIPTION:Songs from the 50s to today played in typical folk style\, with guitar\, voice\, blues harp and percussion Honest craftsmanship\, without great technical effort\, amplified or completely acoustic.
URL:https://www.strandbad-iseltwald.ch/en/event/concert-balmer-folk-2/
ATTACH;FMTTYPE=image/png:https://www.strandbad-iseltwald.ch/wp-content/uploads/2024/04/Balmer-Folk-2.png
END:VEVENT
BEGIN:VEVENT
DTSTART;TZID=Europe/Helsinki:20240905T183000
DTEND;TZID=Europe/Helsinki:20240905T193000
DTSTAMP:20260422T155204
CREATED:20240403T084402Z
LAST-MODIFIED:20240403T084402Z
UID:22651-1725561000-1725564600@www.strandbad-iseltwald.ch
SUMMARY:Serenade for dinner
DESCRIPTION:With the Tambouren Iseltwald and the Dings cover band acoustic
URL:https://www.strandbad-iseltwald.ch/en/event/serenade-for-dinner-4/
ATTACH;FMTTYPE=image/png:https://www.strandbad-iseltwald.ch/wp-content/uploads/2022/01/Wappen-Iseltwald.png
END:VEVENT
BEGIN:VEVENT
DTSTART;TZID=Europe/Helsinki:20240801T180000
DTEND;TZID=Europe/Helsinki:20240802T003000
DTSTAMP:20260422T155204
CREATED:20240708T220151Z
LAST-MODIFIED:20240710T152858Z
UID:23978-1722535200-1722558600@www.strandbad-iseltwald.ch
SUMMARY:August 1st Chinoise Party
DESCRIPTION:
URL:https://www.strandbad-iseltwald.ch/en/event/august-1st-chinoise-party/
ATTACH;FMTTYPE=image/png:https://www.strandbad-iseltwald.ch/wp-content/uploads/2024/07/1.-August-2024_Website.png
END:VEVENT
BEGIN:VEVENT
DTSTART;TZID=Europe/Helsinki:20240725T190000
DTEND;TZID=Europe/Helsinki:20240725T213000
DTSTAMP:20260422T155204
CREATED:20240710T140029Z
LAST-MODIFIED:20240710T140029Z
UID:24048-1721934000-1721943000@www.strandbad-iseltwald.ch
SUMMARY:Concert Band Husgmacht
DESCRIPTION:“Husgmacht” – that’s Jöggi\, Dänel\, Pizza\, Simel and Mike.\nThe 5 guys from Bödeli are longtime & passionate musicians with dialect songs about stories from life to sing along\, dance along and listen to. Rocky\, poppy\, approachable and “husgmacht”.\nChömet verbi – we look forward to seeing you!
URL:https://www.strandbad-iseltwald.ch/en/event/concert-band-husgmacht/
ATTACH;FMTTYPE=image/jpeg:https://www.strandbad-iseltwald.ch/wp-content/uploads/2024/07/Husgmacht-1-1-scaled.jpeg
END:VEVENT
BEGIN:VEVENT
DTSTART;TZID=Europe/Helsinki:20240704T190000
DTEND;TZID=Europe/Helsinki:20240704T213000
DTSTAMP:20260422T155204
CREATED:20240528T110150Z
LAST-MODIFIED:20240528T110200Z
UID:23101-1720119600-1720128600@www.strandbad-iseltwald.ch
SUMMARY:Concert Munisieche
DESCRIPTION:A bagpipe\, a cajon and goovy beats result in a mixture that is second to none! When Könu (cajon) and Münggu (bagpipes) played together for the first time in May 2014\, nobody could have imagined that this “jam” would result in almost 100 concerts to date! They play everywhere where they have fun and with their special\, uplifting and original kind of music\, even the furthest spectator will be caught by the MuniSieche virus :-)!!!
URL:https://www.strandbad-iseltwald.ch/en/event/concert-munisieche-2/
ATTACH;FMTTYPE=image/jpeg:https://www.strandbad-iseltwald.ch/wp-content/uploads/2024/05/Munisieche_Flyer-scaled.jpeg
END:VEVENT
BEGIN:VEVENT
DTSTART;TZID=Europe/Helsinki:20240613T183000
DTEND;TZID=Europe/Helsinki:20240613T193000
DTSTAMP:20260422T155204
CREATED:20240403T084221Z
LAST-MODIFIED:20240403T084221Z
UID:22648-1718303400-1718307000@www.strandbad-iseltwald.ch
SUMMARY:Serenade for dinner
DESCRIPTION:With the Trio Querbeet and the Kuplattner Blaskapelle
URL:https://www.strandbad-iseltwald.ch/en/event/serenade-for-dinner-3/
ATTACH;FMTTYPE=image/png:https://www.strandbad-iseltwald.ch/wp-content/uploads/2024/04/Screenshot-2024-05-28-121157.png
END:VEVENT
BEGIN:VEVENT
DTSTART;TZID=Europe/Helsinki:20240608T093000
DTEND;TZID=Europe/Helsinki:20240608T220000
DTSTAMP:20260422T155204
CREATED:20240403T083810Z
LAST-MODIFIED:20240403T083810Z
UID:22644-1717839000-1717884000@www.strandbad-iseltwald.ch
SUMMARY:Beer hike Iseltwald
DESCRIPTION:
URL:https://www.strandbad-iseltwald.ch/en/event/beer-hike-iseltwald-3/
ATTACH;FMTTYPE=image/jpeg:https://www.strandbad-iseltwald.ch/wp-content/uploads/2024/04/Bild-Bierwanderung.jpg
END:VEVENT
BEGIN:VEVENT
DTSTART;TZID=Europe/Helsinki:20240607T190000
DTEND;TZID=Europe/Helsinki:20240607T213000
DTSTAMP:20260422T155204
CREATED:20240429T180232Z
LAST-MODIFIED:20240429T180232Z
UID:22752-1717786800-1717795800@www.strandbad-iseltwald.ch
SUMMARY:Concert Moop
DESCRIPTION:
URL:https://www.strandbad-iseltwald.ch/en/event/concert-moop-2/
ATTACH;FMTTYPE=image/png:https://www.strandbad-iseltwald.ch/wp-content/uploads/2024/04/Moop-e1714414316821.png
END:VEVENT
BEGIN:VEVENT
DTSTART;TZID=Europe/Helsinki:20240511T120000
DTEND;TZID=Europe/Helsinki:20240511T220000
DTSTAMP:20260422T155204
CREATED:20240403T083203Z
LAST-MODIFIED:20240416T122930Z
UID:22638-1715428800-1715464800@www.strandbad-iseltwald.ch
SUMMARY:Season start celebration
DESCRIPTION:
URL:https://www.strandbad-iseltwald.ch/en/event/season-start-celebration/
ATTACH;FMTTYPE=image/png:https://www.strandbad-iseltwald.ch/wp-content/uploads/2024/04/Saison-Start-3-e1713270419608.png
END:VEVENT
BEGIN:VEVENT
DTSTART;TZID=Europe/Helsinki:20230930T140000
DTEND;TZID=Europe/Helsinki:20230930T233000
DTSTAMP:20260422T155204
CREATED:20230320T110101Z
LAST-MODIFIED:20230903T212548Z
UID:19515-1696082400-1696116600@www.strandbad-iseltwald.ch
SUMMARY:Season End Party
DESCRIPTION:
URL:https://www.strandbad-iseltwald.ch/en/event/season-end-party-2/
ATTACH;FMTTYPE=image/jpeg:https://www.strandbad-iseltwald.ch/wp-content/uploads/2023/03/Season-End_neu.jpeg
END:VEVENT
BEGIN:VEVENT
DTSTART;TZID=Europe/Helsinki:20230909T193000
DTEND;TZID=Europe/Helsinki:20230909T213000
DTSTAMP:20260422T155204
CREATED:20230828T181553Z
LAST-MODIFIED:20230828T181606Z
UID:22216-1694287800-1694295000@www.strandbad-iseltwald.ch
SUMMARY:CONCERT Sunrise Soul Duo
DESCRIPTION:
URL:https://www.strandbad-iseltwald.ch/en/event/concert-sunrise-soul-duo/
ATTACH;FMTTYPE=image/jpeg:https://www.strandbad-iseltwald.ch/wp-content/uploads/2023/08/Sunrise-Soul_Flyer.jpeg
END:VEVENT
BEGIN:VEVENT
DTSTART;TZID=Europe/Helsinki:20230831T190000
DTEND;TZID=Europe/Helsinki:20230831T190000
DTSTAMP:20260422T155204
CREATED:20230313T155739Z
LAST-MODIFIED:20230313T155739Z
UID:19478-1693508400-1693508400@www.strandbad-iseltwald.ch
SUMMARY:CONCERT Tracks
DESCRIPTION:
URL:https://www.strandbad-iseltwald.ch/en/event/concert-tracks/
ATTACH;FMTTYPE=image/jpeg:https://www.strandbad-iseltwald.ch/wp-content/uploads/2023/03/Flyer-Tracks-scaled.jpg
END:VEVENT
BEGIN:VEVENT
DTSTART;TZID=Europe/Zurich:20230826T140000
DTEND;TZID=Europe/Zurich:20230826T220000
DTSTAMP:20260422T155204
CREATED:20230320T092541Z
LAST-MODIFIED:20230720T213448Z
UID:19508-1693058400-1693087200@www.strandbad-iseltwald.ch
SUMMARY:Techno Day Dance
DESCRIPTION:
URL:https://www.strandbad-iseltwald.ch/en/event/techno-day-dance-2/
LOCATION:Iseltwald lido\, Schoren 1\, Iseltwald\, Bern\, 3807\, Schweiz
ATTACH;FMTTYPE=image/jpeg:https://www.strandbad-iseltwald.ch/wp-content/uploads/2023/03/Tanz_und-Badespass-26.08.2023.jpg
END:VEVENT
BEGIN:VEVENT
DTSTART;TZID=Europe/Zurich:20230810T183000
DTEND;TZID=Europe/Zurich:20230810T213000
DTSTAMP:20260422T155204
CREATED:20230422T094800Z
LAST-MODIFIED:20230422T094800Z
UID:19762-1691692200-1691703000@www.strandbad-iseltwald.ch
SUMMARY:CONCERT Munisieche
DESCRIPTION:
URL:https://www.strandbad-iseltwald.ch/en/event/concert-munisieche/
LOCATION:Iseltwald lido\, Schoren 1\, Iseltwald\, Bern\, 3807\, Schweiz
ATTACH;FMTTYPE=image/jpeg:https://www.strandbad-iseltwald.ch/wp-content/uploads/2023/04/Munisieche-Flyer-scaled.jpg
END:VEVENT
BEGIN:VEVENT
DTSTART;TZID=Europe/Helsinki:20230804T190000
DTEND;TZID=Europe/Helsinki:20230804T210000
DTSTAMP:20260422T155204
CREATED:20230324T125724Z
LAST-MODIFIED:20230324T125724Z
UID:19544-1691175600-1691182800@www.strandbad-iseltwald.ch
SUMMARY:Serenade for dinner
DESCRIPTION:19.00 Harzerfäger\n19.45 Tambouren Iseltwald\n20.30 Alphorn & Flag Swinging
URL:https://www.strandbad-iseltwald.ch/en/event/serenade-for-dinner-2/
END:VEVENT
BEGIN:VEVENT
DTSTART;TZID=Europe/Zurich:20230801T140000
DTEND;TZID=Europe/Zurich:20230801T233000
DTSTAMP:20260422T155204
CREATED:20230422T094546Z
LAST-MODIFIED:20230717T232040Z
UID:19757-1690898400-1690932600@www.strandbad-iseltwald.ch
SUMMARY:August 1 Chinoise Party+ CONCERT Moop
DESCRIPTION:
URL:https://www.strandbad-iseltwald.ch/en/event/august-1-celebration-concert-moop/
LOCATION:Iseltwald lido\, Schoren 1\, Iseltwald\, Bern\, 3807\, Schweiz
ATTACH;FMTTYPE=application/pdf:https://www.strandbad-iseltwald.ch/wp-content/uploads/2023/04/1.-August-2023-A4.pdf
END:VEVENT
BEGIN:VEVENT
DTSTART;TZID=Europe/Helsinki:20230719T170000
DTEND;TZID=Europe/Helsinki:20230719T210000
DTSTAMP:20260422T155204
CREATED:20230313T160236Z
LAST-MODIFIED:20230313T160236Z
UID:19487-1689786000-1689800400@www.strandbad-iseltwald.ch
SUMMARY:CIRCUS SHOW + Workshop
DESCRIPTION:Juggling workshop 17:00 – 18:00  \nDemonstration 20:00 – 20:45
URL:https://www.strandbad-iseltwald.ch/en/event/circus-show-workshop/
ATTACH;FMTTYPE=image/jpeg:https://www.strandbad-iseltwald.ch/wp-content/uploads/2023/03/DSC_6186-scaled-1.jpg
END:VEVENT
BEGIN:VEVENT
DTSTART;TZID=Europe/Helsinki:20230713T190000
DTEND;TZID=Europe/Helsinki:20230713T210000
DTSTAMP:20260422T155204
CREATED:20230324T125525Z
LAST-MODIFIED:20230324T125541Z
UID:19540-1689274800-1689282000@www.strandbad-iseltwald.ch
SUMMARY:Serenade for dinner
DESCRIPTION:19.00 Tambouren Iseltwald\n19.46 Harzerfäger\n20.30 h Querbeet
URL:https://www.strandbad-iseltwald.ch/en/event/serenade-for-dinner/
END:VEVENT
BEGIN:VEVENT
DTSTART;TZID=Europe/Helsinki:20230615T190000
DTEND;TZID=Europe/Helsinki:20230615T220000
DTSTAMP:20260422T155204
CREATED:20230313T155340Z
LAST-MODIFIED:20230313T155340Z
UID:19473-1686855600-1686866400@www.strandbad-iseltwald.ch
SUMMARY:CONCERT Balmer Folk
DESCRIPTION:
URL:https://www.strandbad-iseltwald.ch/en/event/concert-balmer-folk/
ATTACH;FMTTYPE=image/jpeg:https://www.strandbad-iseltwald.ch/wp-content/uploads/2023/03/Flyer-Balmer-Folk-scaled.jpg
END:VEVENT
BEGIN:VEVENT
DTSTART;TZID=Europe/Helsinki:20230603T183000
DTEND;TZID=Europe/Helsinki:20230603T220000
DTSTAMP:20260422T155204
CREATED:20230313T154946Z
LAST-MODIFIED:20230519T180948Z
UID:19468-1685817000-1685829600@www.strandbad-iseltwald.ch
SUMMARY:CONCERT Total Minimal
DESCRIPTION:
URL:https://www.strandbad-iseltwald.ch/en/event/concert-total-minimal/
LOCATION:Iseltwald lido\, Schoren 1\, Iseltwald\, Bern\, 3807\, Schweiz
ATTACH;FMTTYPE=image/jpeg:https://www.strandbad-iseltwald.ch/wp-content/uploads/2023/03/FLyer-Total-Minimal-neu-scaled.jpg
END:VEVENT
END:VCALENDAR