BEGIN:VCALENDAR
VERSION:2.0
PRODID:-//strandbad-iseltwald - ECPv6.15.15//NONSGML v1.0//EN
CALSCALE:GREGORIAN
METHOD:PUBLISH
X-ORIGINAL-URL:https://www.strandbad-iseltwald.ch
X-WR-CALDESC:Veranstaltungen für strandbad-iseltwald
REFRESH-INTERVAL;VALUE=DURATION:PT1H
X-Robots-Tag:noindex
X-PUBLISHED-TTL:PT1H
BEGIN:VTIMEZONE
TZID:Europe/Helsinki
BEGIN:DAYLIGHT
TZOFFSETFROM:+0200
TZOFFSETTO:+0300
TZNAME:EEST
DTSTART:20250330T010000
END:DAYLIGHT
BEGIN:STANDARD
TZOFFSETFROM:+0300
TZOFFSETTO:+0200
TZNAME:EET
DTSTART:20251026T010000
END:STANDARD
BEGIN:DAYLIGHT
TZOFFSETFROM:+0200
TZOFFSETTO:+0300
TZNAME:EEST
DTSTART:20260329T010000
END:DAYLIGHT
BEGIN:STANDARD
TZOFFSETFROM:+0300
TZOFFSETTO:+0200
TZNAME:EET
DTSTART:20261025T010000
END:STANDARD
BEGIN:DAYLIGHT
TZOFFSETFROM:+0200
TZOFFSETTO:+0300
TZNAME:EEST
DTSTART:20270328T010000
END:DAYLIGHT
BEGIN:STANDARD
TZOFFSETFROM:+0300
TZOFFSETTO:+0200
TZNAME:EET
DTSTART:20271031T010000
END:STANDARD
END:VTIMEZONE
BEGIN:VEVENT
DTSTART;TZID=Europe/Helsinki:20260509T120000
DTEND;TZID=Europe/Helsinki:20260509T220000
DTSTAMP:20260422T165728
CREATED:20260213T153412Z
LAST-MODIFIED:20260213T153412Z
UID:28770-1778328000-1778364000@www.strandbad-iseltwald.ch
SUMMARY:Saison Start 2026
DESCRIPTION:Programm folgt…
URL:https://www.strandbad-iseltwald.ch/event/saison-start-2026/
END:VEVENT
BEGIN:VEVENT
DTSTART;TZID=Europe/Helsinki:20260523T190000
DTEND;TZID=Europe/Helsinki:20260523T213000
DTSTAMP:20260422T165728
CREATED:20260331T134844Z
LAST-MODIFIED:20260331T134844Z
UID:29006-1779562800-1779571800@www.strandbad-iseltwald.ch
SUMMARY:Konzert Tres Pesetas
DESCRIPTION:
URL:https://www.strandbad-iseltwald.ch/event/konzert-tres-pesetas/
END:VEVENT
BEGIN:VEVENT
DTSTART;TZID=Europe/Helsinki:20260530T093000
DTEND;TZID=Europe/Helsinki:20260530T220000
DTSTAMP:20260422T165728
CREATED:20260213T153516Z
LAST-MODIFIED:20260213T153516Z
UID:28772-1780133400-1780178400@www.strandbad-iseltwald.ch
SUMMARY:Bierwanderung Iseltwald
DESCRIPTION:Bierstand Rotmoosbräu im Strandbad Iseltwald
URL:https://www.strandbad-iseltwald.ch/event/bierwanderung-iseltwald-5/
END:VEVENT
BEGIN:VEVENT
DTSTART;TZID=Europe/Helsinki:20260620T190000
DTEND;TZID=Europe/Helsinki:20260620T213000
DTSTAMP:20260422T165728
CREATED:20260330T163411Z
LAST-MODIFIED:20260330T163411Z
UID:28998-1781982000-1781991000@www.strandbad-iseltwald.ch
SUMMARY:Konzert Balmer Folk
DESCRIPTION:
URL:https://www.strandbad-iseltwald.ch/event/konzert-balmer-folk-3/
END:VEVENT
BEGIN:VEVENT
DTSTART;TZID=Europe/Helsinki:20260717T190000
DTEND;TZID=Europe/Helsinki:20260717T213000
DTSTAMP:20260422T165728
CREATED:20260330T163446Z
LAST-MODIFIED:20260330T163446Z
UID:29000-1784314800-1784323800@www.strandbad-iseltwald.ch
SUMMARY:Konzert Husgmacht
DESCRIPTION:
URL:https://www.strandbad-iseltwald.ch/event/konzert-husgmacht/
END:VEVENT
BEGIN:VEVENT
DTSTART;TZID=Europe/Helsinki:20260801T180000
DTEND;TZID=Europe/Helsinki:20260801T233000
DTSTAMP:20260422T165728
CREATED:20260213T153703Z
LAST-MODIFIED:20260213T153703Z
UID:28776-1785607200-1785627000@www.strandbad-iseltwald.ch
SUMMARY:1. August Chinoise Buffet
DESCRIPTION:Nur auf Reservation
URL:https://www.strandbad-iseltwald.ch/event/1-august-chinoise-buffet-2/
END:VEVENT
BEGIN:VEVENT
DTSTART;TZID=Europe/Helsinki:20260807T190000
DTEND;TZID=Europe/Helsinki:20260807T213000
DTSTAMP:20260422T165728
CREATED:20260330T163528Z
LAST-MODIFIED:20260330T163528Z
UID:29002-1786129200-1786138200@www.strandbad-iseltwald.ch
SUMMARY:Konzert The Showband
DESCRIPTION:
URL:https://www.strandbad-iseltwald.ch/event/konzert-the-showband/
END:VEVENT
BEGIN:VEVENT
DTSTART;TZID=Europe/Helsinki:20260822T190000
DTEND;TZID=Europe/Helsinki:20260822T213000
DTSTAMP:20260422T165728
CREATED:20260330T163612Z
LAST-MODIFIED:20260330T163612Z
UID:29004-1787425200-1787434200@www.strandbad-iseltwald.ch
SUMMARY:Konzert Dimi Rogers
DESCRIPTION:
URL:https://www.strandbad-iseltwald.ch/event/konzert-dimi-rogers/
END:VEVENT
BEGIN:VEVENT
DTSTART;TZID=Europe/Helsinki:20260926T120000
DTEND;TZID=Europe/Helsinki:20260926T220000
DTSTAMP:20260422T165728
CREATED:20260213T153611Z
LAST-MODIFIED:20260213T153611Z
UID:28774-1790424000-1790460000@www.strandbad-iseltwald.ch
SUMMARY:Season End Party 2026
DESCRIPTION:Programm folgt…
URL:https://www.strandbad-iseltwald.ch/event/season-end-party-2026/
END:VEVENT
END:VCALENDAR